BEGIN:VCALENDAR
VERSION:2.0
PRODID:-//PFA - ECPv6.15.20//NONSGML v1.0//EN
CALSCALE:GREGORIAN
METHOD:PUBLISH
X-WR-CALNAME:PFA
X-ORIGINAL-URL:https://www.pfaeurope.com
X-WR-CALDESC:Events for PFA
REFRESH-INTERVAL;VALUE=DURATION:PT1H
X-Robots-Tag:noindex
X-PUBLISHED-TTL:PT1H
BEGIN:VTIMEZONE
TZID:Europe/London
BEGIN:DAYLIGHT
TZOFFSETFROM:+0000
TZOFFSETTO:+0100
TZNAME:BST
DTSTART:20250330T010000
END:DAYLIGHT
BEGIN:STANDARD
TZOFFSETFROM:+0100
TZOFFSETTO:+0000
TZNAME:GMT
DTSTART:20251026T010000
END:STANDARD
BEGIN:DAYLIGHT
TZOFFSETFROM:+0000
TZOFFSETTO:+0100
TZNAME:BST
DTSTART:20260329T010000
END:DAYLIGHT
BEGIN:STANDARD
TZOFFSETFROM:+0100
TZOFFSETTO:+0000
TZNAME:GMT
DTSTART:20261025T010000
END:STANDARD
BEGIN:DAYLIGHT
TZOFFSETFROM:+0000
TZOFFSETTO:+0100
TZNAME:BST
DTSTART:20270328T010000
END:DAYLIGHT
BEGIN:STANDARD
TZOFFSETFROM:+0100
TZOFFSETTO:+0000
TZNAME:GMT
DTSTART:20271031T010000
END:STANDARD
END:VTIMEZONE
BEGIN:VEVENT
DTSTART;TZID=Europe/London:20260513T180000
DTEND;TZID=Europe/London:20260514T230000
DTSTAMP:20260420T115359
CREATED:20260324T124053Z
LAST-MODIFIED:20260413T083158Z
UID:7433-1778695200-1778799600@www.pfaeurope.com
SUMMARY:PFA Spring Event 2026 - Malta\, 13-14 May 2026
DESCRIPTION:We are thrilled to announce the PFA Spring Event 2026\, a unique opportunity to connect and learn in the stunning coastal hub of St. Julian’s\, Malta\, from May 13–14\, 2026! \nPrepare for an enriching experience against the backdrop of the Mediterranean\, featuring insightful speaker presentations\, a delightful Welcome Evening Reception overlooking the bay\, and a Gala Dinner. \nOur main event hotel is located in the heart of St. Julian’s – Malta Marriott Resort & Spa\, where we have a number of rooms reserved at a special PFA rate. If you would like to reserve a room\, please reach out to us at office@pfaeurope.com. \n_______ \nEvent schedule: \nWednesday 13th of May \n18:30 – 20:30 Welcome Reception \nThursday 14th of May \nNetworking Lunch \nSpeakers Presentations \nGala Dinner \n_______ \nTickets Information \nMember Tickets are £500 per attendee. Please ensure that the Annual Membership for your company is paid prior to booking tickets below: \nMedia (non-member) companies may only purchase tickets of the non-member category. \nPlease note there is a max. 3 attendees per company policy for PFA events.
URL:https://www.pfaeurope.com/event/pfa-spring-event-2026-malta-13-14-may-2026/
END:VEVENT
END:VCALENDAR